BEGIN:VCALENDAR
VERSION:2.0
PRODID:-//Ларец Самоцветов - ECPv6.0.0.1//NONSGML v1.0//EN
CALSCALE:GREGORIAN
METHOD:PUBLISH
X-ORIGINAL-URL:https://larets.by
X-WR-CALDESC:Мероприятия для Ларец Самоцветов
REFRESH-INTERVAL;VALUE=DURATION:PT1H
X-Robots-Tag:noindex
X-PUBLISHED-TTL:PT1H
BEGIN:VTIMEZONE
TZID:Europe/Moscow
BEGIN:STANDARD
TZOFFSETFROM:+0300
TZOFFSETTO:+0300
TZNAME:MSK
DTSTART:20230101T000000
END:STANDARD
END:VTIMEZONE
BEGIN:VEVENT
DTSTART;TZID=Europe/Moscow:20230418T140000
DTEND;TZID=Europe/Moscow:20230418T190000
DTSTAMP:20260423T000511
CREATED:20230219T220652Z
LAST-MODIFIED:20230219T224113Z
UID:11108-1681826400-1681844400@larets.by
SUMMARY:Литоэнергетика. ОБУЧЕНИЕ
DESCRIPTION:Индивидуальное обучение литоэнергетике проводится только ПО ПРЕДВАРИТЕЛЬНОЙ ЗАПИСИ. Запись через viber +375445358864 (написать запрос- с Вами свяжется преподаватель) \n 
URL:https://larets.by/event/litoenergetika-individualnoe-obuchenie-2/
CATEGORIES:День консультаций и обучения
ATTACH;FMTTYPE=image/jpeg:https://larets.by/wp-content/uploads/2022/06/pochakrovaya-sistema.jpg
END:VEVENT
END:VCALENDAR