BEGIN:VCALENDAR
VERSION:2.0
PRODID:-//Ларец Самоцветов - ECPv6.0.0.1//NONSGML v1.0//EN
CALSCALE:GREGORIAN
METHOD:PUBLISH
X-WR-CALNAME:Ларец Самоцветов
X-ORIGINAL-URL:https://larets.by
X-WR-CALDESC:Мероприятия для Ларец Самоцветов
REFRESH-INTERVAL;VALUE=DURATION:PT1H
X-Robots-Tag:noindex
X-PUBLISHED-TTL:PT1H
BEGIN:VTIMEZONE
TZID:Europe/Moscow
BEGIN:STANDARD
TZOFFSETFROM:+0300
TZOFFSETTO:+0300
TZNAME:MSK
DTSTART:20230101T000000
END:STANDARD
END:VTIMEZONE
BEGIN:VEVENT
DTSTART;TZID=Europe/Moscow:20230511T140000
DTEND;TZID=Europe/Moscow:20230511T210000
DTSTAMP:20260422T203810
CREATED:20230219T221325Z
LAST-MODIFIED:20230219T221325Z
UID:11120-1683813600-1683838800@larets.by
SUMMARY:Литоэнергетика. ОБУЧЕНИЕ (индивидуальное)
DESCRIPTION:Индивидуальное обучение литоэнергетике проводится только ПО ПРЕДВАРИТЕЛЬНОЙ ЗАПИСИ. Запись через viber +375445358864 (написать запрос- с Вами свяжется преподаватель) \n 
URL:https://larets.by/event/litoenergetika-obuchenie-individualnoe-11/
CATEGORIES:День консультаций и обучения
ATTACH;FMTTYPE=image/jpeg:https://larets.by/wp-content/uploads/2022/06/pochakrovaya-sistema.jpg
END:VEVENT
BEGIN:VEVENT
DTSTART;TZID=Europe/Moscow:20230516T140000
DTEND;TZID=Europe/Moscow:20230516T190000
DTSTAMP:20260422T203810
CREATED:20230219T220756Z
LAST-MODIFIED:20230219T224313Z
UID:11110-1684245600-1684263600@larets.by
SUMMARY:Литоэнергетика. ОБУЧЕНИЕ
DESCRIPTION:Индивидуальное обучение литоэнергетике проводится только ПО ПРЕДВАРИТЕЛЬНОЙ ЗАПИСИ. Запись через viber +375445358864 (написать запрос- с Вами свяжется преподаватель) \n 
URL:https://larets.by/event/litoenergetika-individualnoe-obuchenie-3/
CATEGORIES:День консультаций и обучения
ATTACH;FMTTYPE=image/jpeg:https://larets.by/wp-content/uploads/2022/06/pochakrovaya-sistema.jpg
END:VEVENT
BEGIN:VEVENT
DTSTART;TZID=Europe/Moscow:20230518T140000
DTEND;TZID=Europe/Moscow:20230518T210000
DTSTAMP:20260422T203810
CREATED:20230219T221347Z
LAST-MODIFIED:20230219T221347Z
UID:11122-1684418400-1684443600@larets.by
SUMMARY:Литоэнергетика. ОБУЧЕНИЕ (индивидуальное)
DESCRIPTION:Индивидуальное обучение литоэнергетике проводится только ПО ПРЕДВАРИТЕЛЬНОЙ ЗАПИСИ. Запись через viber +375445358864 (написать запрос- с Вами свяжется преподаватель) \n 
URL:https://larets.by/event/litoenergetika-obuchenie-individualnoe-12/
CATEGORIES:День консультаций и обучения
ATTACH;FMTTYPE=image/jpeg:https://larets.by/wp-content/uploads/2022/06/pochakrovaya-sistema.jpg
END:VEVENT
BEGIN:VEVENT
DTSTART;TZID=Europe/Moscow:20230523T140000
DTEND;TZID=Europe/Moscow:20230523T190000
DTSTAMP:20260422T203810
CREATED:20230219T220822Z
LAST-MODIFIED:20230219T224411Z
UID:11112-1684850400-1684868400@larets.by
SUMMARY:Литоэнергетика. ОБУЧЕНИЕ
DESCRIPTION:Индивидуальное обучение литоэнергетике проводится только ПО ПРЕДВАРИТЕЛЬНОЙ ЗАПИСИ. Запись через viber +375445358864 (написать запрос- с Вами свяжется преподаватель) \n 
URL:https://larets.by/event/litoenergetika-individualnoe-obuchenie-4/
CATEGORIES:День консультаций и обучения
ATTACH;FMTTYPE=image/jpeg:https://larets.by/wp-content/uploads/2022/06/pochakrovaya-sistema.jpg
END:VEVENT
BEGIN:VEVENT
DTSTART;TZID=Europe/Moscow:20230525T140000
DTEND;TZID=Europe/Moscow:20230525T210000
DTSTAMP:20260422T203810
CREATED:20230219T221413Z
LAST-MODIFIED:20230219T221413Z
UID:11124-1685023200-1685048400@larets.by
SUMMARY:Литоэнергетика. ОБУЧЕНИЕ (индивидуальное)
DESCRIPTION:Индивидуальное обучение литоэнергетике проводится только ПО ПРЕДВАРИТЕЛЬНОЙ ЗАПИСИ. Запись через viber +375445358864 (написать запрос- с Вами свяжется преподаватель) \n 
URL:https://larets.by/event/litoenergetika-obuchenie-individualnoe-13/
CATEGORIES:День консультаций и обучения
ATTACH;FMTTYPE=image/jpeg:https://larets.by/wp-content/uploads/2022/06/pochakrovaya-sistema.jpg
END:VEVENT
END:VCALENDAR