BEGIN:VCALENDAR
VERSION:2.0
PRODID:-//Ларец Самоцветов - ECPv6.0.0.1//NONSGML v1.0//EN
CALSCALE:GREGORIAN
METHOD:PUBLISH
X-WR-CALNAME:Ларец Самоцветов
X-ORIGINAL-URL:https://larets.by
X-WR-CALDESC:Мероприятия для Ларец Самоцветов
REFRESH-INTERVAL;VALUE=DURATION:PT1H
X-Robots-Tag:noindex
X-PUBLISHED-TTL:PT1H
BEGIN:VTIMEZONE
TZID:Europe/Moscow
BEGIN:STANDARD
TZOFFSETFROM:+0300
TZOFFSETTO:+0300
TZNAME:MSK
DTSTART:20230101T000000
END:STANDARD
END:VTIMEZONE
BEGIN:VEVENT
DTSTART;TZID=Europe/Moscow:20230406T140000
DTEND;TZID=Europe/Moscow:20230406T210000
DTSTAMP:20260422T222343
CREATED:20230219T221107Z
LAST-MODIFIED:20230219T221107Z
UID:11105-1680789600-1680814800@larets.by
SUMMARY:Литоэнергетика. ОБУЧЕНИЕ (индивидуальное)
DESCRIPTION:Индивидуальное обучение литоэнергетике проводится только ПО ПРЕДВАРИТЕЛЬНОЙ ЗАПИСИ. Запись через viber +375445358864 (написать запрос- с Вами свяжется преподаватель) \n 
URL:https://larets.by/event/litoenergetika-obuchenie-individualnoe-8/
CATEGORIES:День консультаций и обучения
ATTACH;FMTTYPE=image/jpeg:https://larets.by/wp-content/uploads/2022/06/pochakrovaya-sistema.jpg
END:VEVENT
BEGIN:VEVENT
DTSTART;TZID=Europe/Moscow:20230411T140000
DTEND;TZID=Europe/Moscow:20230411T190000
DTSTAMP:20260422T222343
CREATED:20230219T220627Z
LAST-MODIFIED:20230219T223941Z
UID:11104-1681221600-1681239600@larets.by
SUMMARY:Литоэнергетика. ОБУЧЕНИЕ
DESCRIPTION:Индивидуальное обучение литоэнергетике проводится только ПО ПРЕДВАРИТЕЛЬНОЙ ЗАПИСИ. Запись через viber +375445358864 (написать запрос- с Вами свяжется преподаватель) \n 
URL:https://larets.by/event/litoenergetika-individualnoe-obuchenie/
CATEGORIES:День консультаций и обучения
ATTACH;FMTTYPE=image/jpeg:https://larets.by/wp-content/uploads/2022/06/pochakrovaya-sistema.jpg
END:VEVENT
BEGIN:VEVENT
DTSTART;TZID=Europe/Moscow:20230413T140000
DTEND;TZID=Europe/Moscow:20230413T210000
DTSTAMP:20260422T222343
CREATED:20230219T221133Z
LAST-MODIFIED:20230219T221133Z
UID:11115-1681394400-1681419600@larets.by
SUMMARY:Литоэнергетика. ОБУЧЕНИЕ (индивидуальное)
DESCRIPTION:Индивидуальное обучение литоэнергетике проводится только ПО ПРЕДВАРИТЕЛЬНОЙ ЗАПИСИ. Запись через viber +375445358864 (написать запрос- с Вами свяжется преподаватель) \n 
URL:https://larets.by/event/litoenergetika-obuchenie-individualnoe-9/
CATEGORIES:День консультаций и обучения
ATTACH;FMTTYPE=image/jpeg:https://larets.by/wp-content/uploads/2022/06/pochakrovaya-sistema.jpg
END:VEVENT
BEGIN:VEVENT
DTSTART;TZID=Europe/Moscow:20230418T140000
DTEND;TZID=Europe/Moscow:20230418T190000
DTSTAMP:20260422T222343
CREATED:20230219T220652Z
LAST-MODIFIED:20230219T224113Z
UID:11108-1681826400-1681844400@larets.by
SUMMARY:Литоэнергетика. ОБУЧЕНИЕ
DESCRIPTION:Индивидуальное обучение литоэнергетике проводится только ПО ПРЕДВАРИТЕЛЬНОЙ ЗАПИСИ. Запись через viber +375445358864 (написать запрос- с Вами свяжется преподаватель) \n 
URL:https://larets.by/event/litoenergetika-individualnoe-obuchenie-2/
CATEGORIES:День консультаций и обучения
ATTACH;FMTTYPE=image/jpeg:https://larets.by/wp-content/uploads/2022/06/pochakrovaya-sistema.jpg
END:VEVENT
BEGIN:VEVENT
DTSTART;TZID=Europe/Moscow:20230420T140000
DTEND;TZID=Europe/Moscow:20230420T210000
DTSTAMP:20260422T222343
CREATED:20230219T221216Z
LAST-MODIFIED:20230219T221216Z
UID:11118-1681999200-1682024400@larets.by
SUMMARY:Литоэнергетика. ОБУЧЕНИЕ (индивидуальное)
DESCRIPTION:Индивидуальное обучение литоэнергетике проводится только ПО ПРЕДВАРИТЕЛЬНОЙ ЗАПИСИ. Запись через viber +375445358864 (написать запрос- с Вами свяжется преподаватель) \n 
URL:https://larets.by/event/litoenergetika-obuchenie-individualnoe-10/
CATEGORIES:День консультаций и обучения
ATTACH;FMTTYPE=image/jpeg:https://larets.by/wp-content/uploads/2022/06/pochakrovaya-sistema.jpg
END:VEVENT
END:VCALENDAR