BEGIN:VCALENDAR
VERSION:2.0
PRODID:-//Ларец Самоцветов - ECPv6.0.0.1//NONSGML v1.0//EN
CALSCALE:GREGORIAN
METHOD:PUBLISH
X-ORIGINAL-URL:https://larets.by
X-WR-CALDESC:Мероприятия для Ларец Самоцветов
REFRESH-INTERVAL;VALUE=DURATION:PT1H
X-Robots-Tag:noindex
X-PUBLISHED-TTL:PT1H
BEGIN:VTIMEZONE
TZID:Europe/Moscow
BEGIN:STANDARD
TZOFFSETFROM:+0300
TZOFFSETTO:+0300
TZNAME:MSK
DTSTART:20230101T000000
END:STANDARD
END:VTIMEZONE
BEGIN:VEVENT
DTSTART;VALUE=DATE:20230401
DTEND;VALUE=DATE:20230402
DTSTAMP:20260422T201922
CREATED:20230219T213210Z
LAST-MODIFIED:20230219T213210Z
UID:11046-1680307200-1680393599@larets.by
SUMMARY:ВЫХОДНОЙ
DESCRIPTION:магазин закрыт\, консультации и обучение не проводятся
URL:https://larets.by/event/vyhodnoj-17/
CATEGORIES:Выходной
ATTACH;FMTTYPE=image/png:https://larets.by/wp-content/uploads/2022/07/favicon.png
END:VEVENT
BEGIN:VEVENT
DTSTART;VALUE=DATE:20230401
DTEND;VALUE=DATE:20230402
DTSTAMP:20260422T201922
CREATED:20230219T223510Z
LAST-MODIFIED:20230219T223510Z
UID:11148-1680307200-1680393599@larets.by
SUMMARY:ЗАКРЫТО. ПОСТУПЛЕНИЕ ТОВАРА
DESCRIPTION:магазин закрыт\, консультации и обучение не проводятся
URL:https://larets.by/event/zakryto-postuplenie-tovara/
CATEGORIES:Выходной
ATTACH;FMTTYPE=image/png:https://larets.by/wp-content/uploads/2022/07/favicon.png
END:VEVENT
BEGIN:VEVENT
DTSTART;VALUE=DATE:20230404
DTEND;VALUE=DATE:20230405
DTSTAMP:20260422T201922
CREATED:20230219T223644Z
LAST-MODIFIED:20230219T223644Z
UID:11153-1680566400-1680652799@larets.by
SUMMARY:ЗАКРЫТО.  оформление товара
DESCRIPTION:магазин закрыт\, консультации и обучение не проводятся
URL:https://larets.by/event/zakryto-oformlenie-tovara/
CATEGORIES:Выходной
ATTACH;FMTTYPE=image/png:https://larets.by/wp-content/uploads/2022/07/favicon.png
END:VEVENT
BEGIN:VEVENT
DTSTART;VALUE=DATE:20230409
DTEND;VALUE=DATE:20230410
DTSTAMP:20260422T201922
CREATED:20230220T080657Z
LAST-MODIFIED:20230220T080657Z
UID:11150-1680998400-1681084799@larets.by
SUMMARY:ВЫХОДНОЙ
DESCRIPTION:магазин закрыт\, консультации и обучение не проводятся
URL:https://larets.by/event/vyhodnoj-6/
CATEGORIES:Выходной
ATTACH;FMTTYPE=image/png:https://larets.by/wp-content/uploads/2022/07/favicon.png
END:VEVENT
BEGIN:VEVENT
DTSTART;VALUE=DATE:20230416
DTEND;VALUE=DATE:20230417
DTSTAMP:20260422T201922
CREATED:20230220T080716Z
LAST-MODIFIED:20230220T080716Z
UID:11179-1681603200-1681689599@larets.by
SUMMARY:ВЫХОДНОЙ
DESCRIPTION:магазин закрыт\, консультации и обучение не проводятся
URL:https://larets.by/event/vyhodnoj-7/
CATEGORIES:Выходной
ATTACH;FMTTYPE=image/png:https://larets.by/wp-content/uploads/2022/07/favicon.png
END:VEVENT
BEGIN:VEVENT
DTSTART;VALUE=DATE:20230422
DTEND;VALUE=DATE:20230501
DTSTAMP:20260422T201922
CREATED:20230418T123348Z
LAST-MODIFIED:20230418T123348Z
UID:11166-1682121600-1682899199@larets.by
SUMMARY:НЕ работает по техническим причинам
DESCRIPTION:магазин закрыт\, консультации и обучение не проводятся
URL:https://larets.by/event/ne-rabotaet-po-tehnicheskim-prichinam-2/
CATEGORIES:Выходной
ATTACH;FMTTYPE=image/png:https://larets.by/wp-content/uploads/2022/07/favicon.png
END:VEVENT
BEGIN:VEVENT
DTSTART;VALUE=DATE:20230423
DTEND;VALUE=DATE:20230424
DTSTAMP:20260422T201922
CREATED:20230220T080737Z
LAST-MODIFIED:20230220T080737Z
UID:11181-1682208000-1682294399@larets.by
SUMMARY:ВЫХОДНОЙ
DESCRIPTION:магазин закрыт\, консультации и обучение не проводятся
URL:https://larets.by/event/vyhodnoj-12/
CATEGORIES:Выходной
ATTACH;FMTTYPE=image/png:https://larets.by/wp-content/uploads/2022/07/favicon.png
END:VEVENT
BEGIN:VEVENT
DTSTART;VALUE=DATE:20230430
DTEND;VALUE=DATE:20230501
DTSTAMP:20260422T201922
CREATED:20230220T080831Z
LAST-MODIFIED:20230220T080831Z
UID:11183-1682812800-1682899199@larets.by
SUMMARY:ВЫХОДНОЙ
DESCRIPTION:магазин закрыт\, консультации и обучение не проводятся
URL:https://larets.by/event/vyhodnoj-19/
CATEGORIES:Выходной
ATTACH;FMTTYPE=image/png:https://larets.by/wp-content/uploads/2022/07/favicon.png
END:VEVENT
END:VCALENDAR